BEGIN:VCALENDAR
VERSION:2.0
PRODID:-//Oma&#039;s Biergarten - ECPv6.3.3.1//NONSGML v1.0//EN
CALSCALE:GREGORIAN
METHOD:PUBLISH
X-ORIGINAL-URL:https://omas-heidelberg.de
X-WR-CALDESC:Veranstaltungen für Oma&#039;s Biergarten
REFRESH-INTERVAL;VALUE=DURATION:PT1H
X-Robots-Tag:noindex
X-PUBLISHED-TTL:PT1H
BEGIN:VTIMEZONE
TZID:Europe/Berlin
BEGIN:DAYLIGHT
TZOFFSETFROM:+0100
TZOFFSETTO:+0200
TZNAME:CEST
DTSTART:20250330T010000
END:DAYLIGHT
BEGIN:STANDARD
TZOFFSETFROM:+0200
TZOFFSETTO:+0100
TZNAME:CET
DTSTART:20251026T010000
END:STANDARD
END:VTIMEZONE
BEGIN:VEVENT
DTSTART;TZID=Europe/Berlin:20250720T180000
DTEND;TZID=Europe/Berlin:20250720T200000
DTSTAMP:20260421T102613
CREATED:20250508T090120Z
LAST-MODIFIED:20250508T094220Z
UID:10000011-1753034400-1753041600@omas-heidelberg.de
SUMMARY:BC and the Bongardz
DESCRIPTION:Rock Covers \nOMA’s öffnet ab 14.00 Uhr
URL:https://omas-heidelberg.de/event/bc-and-the-bongardz-3/
LOCATION:Kleine Bühne (akustisch)
END:VEVENT
BEGIN:VEVENT
DTSTART;TZID=Europe/Berlin:20250727T180000
DTEND;TZID=Europe/Berlin:20250727T200000
DTSTAMP:20260421T102613
CREATED:20250606T095057Z
LAST-MODIFIED:20250606T095057Z
UID:10000018-1753639200-1753646400@omas-heidelberg.de
SUMMARY:Les Baguettes
DESCRIPTION:Singer-Songwriter-Akustik-Songs \nOMA’s öffnet um 14.00 Uhr
URL:https://omas-heidelberg.de/event/les-baguettes/
LOCATION:Kleine Bühne (akustisch)
END:VEVENT
END:VCALENDAR